BEGIN:VCALENDAR
VERSION:2.0
PRODID:-//pretix//Innovum_Tickets//
BEGIN:VEVENT
UID:pretix-intro-BBQintro-2025-0@intro-innovum.nl
DTSTART:20250826T190000Z
DTEND:20250827T000000Z
DESCRIPTION:Tickets: https://intro-innovum.nl/BBQintro-2025/\nOrganisator: 
 Introductie Week Engineering
DTSTAMP:20260421T085441Z
LOCATION:Schafterdijk 9\, Valkenswaard
SUMMARY:BBQ Dinsdag Intro 2025
END:VEVENT
END:VCALENDAR
