BEGIN:VCALENDAR
VERSION:2.0
PRODID:-//pretix//Innovum_Tickets//
BEGIN:VEVENT
UID:pretix-intro-BBQIntro2025-0@intro-innovum.nl
DTSTART;VALUE=DATE:20250826
DTEND;VALUE=DATE:20250827
DESCRIPTION:Tickets: https://intro-innovum.nl/BBQIntro2025/\nOrganisator: I
 ntroductie Week Engineering
DTSTAMP:20260421T083613Z
LOCATION:Schafterdijk 9\, Valkenswaard
SUMMARY:BBQ oud leden 2025
END:VEVENT
END:VCALENDAR
